BEGIN:VCALENDAR
VERSION:2.0
PRODID:-//www.mtelon.com//NONSGML kigkonsult.se iCalcreator 2.39.1//
CALSCALE:GREGORIAN
METHOD:PUBLISH
UID:22a80578-5d6c-4795-8bfa-283a86b62da3
X-WR-CALNAME:www.mtelon.com
X-WR-CALDESC:www.mtelon.com
X-WR-TIMEZONE:America/Los_Angeles
X-LIC-LOCATION:America/Los_Angeles
BEGIN:VEVENT
UID:d8526832-cc95-4130-ae7b-633581a0f56b
DTSTAMP:20260421T010215Z
CLASS:PUBLIC
DTSTART;TZID=America/Los_Angeles:20250903T180000
DTEND;TZID=America/Los_Angeles:20250903T190000
LOCATION:Mount Elon Baptist Church
SUMMARY:Wednesday Night Prayer Meeting
TRANSP:OPAQUE
BEGIN:VALARM
ACTION:DISPLAY
DESCRIPTION:Wednesday Night Prayer Meeting
TRIGGER:-PT15M
END:VALARM
END:VEVENT
END:VCALENDAR
